BEGIN:VCALENDAR
VERSION:2.0
PRODID:-//Rainier 3 - ECPv6.0.9//NONSGML v1.0//EN
CALSCALE:GREGORIAN
METHOD:PUBLISH
X-ORIGINAL-URL:https://centenairerainier3.mc
X-WR-CALDESC:évènements pour Rainier 3
REFRESH-INTERVAL;VALUE=DURATION:PT1H
X-Robots-Tag:noindex
X-PUBLISHED-TTL:PT1H
BEGIN:VTIMEZONE
TZID:Europe/Paris
BEGIN:DAYLIGHT
TZOFFSETFROM:+0100
TZOFFSETTO:+0200
TZNAME:CEST
DTSTART:20230326T010000
END:DAYLIGHT
BEGIN:STANDARD
TZOFFSETFROM:+0200
TZOFFSETTO:+0100
TZNAME:CET
DTSTART:20231029T010000
END:STANDARD
BEGIN:DAYLIGHT
TZOFFSETFROM:+0100
TZOFFSETTO:+0200
TZNAME:CEST
DTSTART:20240331T010000
END:DAYLIGHT
BEGIN:STANDARD
TZOFFSETFROM:+0200
TZOFFSETTO:+0100
TZNAME:CET
DTSTART:20241027T010000
END:STANDARD
END:VTIMEZONE
BEGIN:VEVENT
DTSTART;TZID=Europe/Paris:20231122T000000
DTEND;TZID=Europe/Paris:20240211T235959
DTSTAMP:20260417T001710
CREATED:20221231T114900Z
LAST-MODIFIED:20240110T081900Z
UID:10000009-1700611200-1707695999@centenairerainier3.mc
SUMMARY:Exposition “Le Prince au cœur du cirque”
DESCRIPTION:© Gaëtan Luci – Archives du Palais princier\n\n\nDepuis 1974\, le Festival International du Cirque de Monte-Carlo est le rendez-vous incontournable de toutes les plus grandes familles et écoles de cirque du monde où se mêlent virtuosité\, exploit\, rire et magie\, pour le plaisir des spectateurs. \nLe Festival International du Cirque de Monte-Carlo a été créé en 1974 par le Prince Rainier III. Dans le cadre des Commémorations du Centenaire du Prince Rainier III et à l’occasion du 50e anniversaire du Festival en 2024\, une exposition intitulée « Le Prince au cœur du cirque » est organisée à l’initiative de S.A.S. la Princesse Stéphanie. Celle-ci est coordonnée par la Direction des Affaires Culturelles et le Comité de Commémoration du Prince Rainier III\, en collaboration avec Monte-Carlo Festivals. \nCette rétrospective se tiendra\, du 22 novembre 2023 au 28 janvier 2024\, dans l’ancien Musée de l’Automobile situé sur les Terrasses de Fontvieille. Elle présente les actions menées par le Prince Rainier III en faveur du Cirque\, qui\, avec son esprit visionnaire et sa bienveillance envers les artistes et les animaux\, a su combiner tradition et modernité pour donner une nouvelle vie aux Arts du Cirque. \nLa scénographie et le commissariat ont été guidés par les paroles du Prince Rainier III\, qui rappelait que « le cirque s’éprouve avec les sens et qu’il est avant tout un art vivant ». Ses écrits et ses témoignages accompagnent le visiteur dans un parcours où se conjuguent des extraits vidéos de numéros emblématiques\, des documents inédits des Archives du Palais de Monaco\, des nombreux costumes de la collection du Dr. Alain Frère et des œuvres rassemblées pour la première fois\, afin de vivre et de découvrir l’histoire du Festival le plus prestigieux du monde du cirque. \nCommissariat : S.A.S. la Princesse Stéphanie et le Dr. Alain FrèreCommissariat scientifique : Charlène DrayScénographie : Charlène Dray et Lucas Lemme \nInformations pratiques : Terrasses de Fontvieille\, ancien Musée de l’Automobile25-29 Avenue Albert II – MonacoEntrée libre et gratuiteOuvert 7 jours / 7\, de 11h à 19hFermé le 25 décembre 2023 et le 1er janvier 2024
URL:https://centenairerainier3.mc/event/exposition-le-prince-au-coeur-du-cirque/
LOCATION:Terrasses de Fontvieille
CATEGORIES:Exposition
ATTACH;FMTTYPE=image/jpeg:https://centenairerainier3.mc/wp-content/uploads/2022/12/2048x1365px_100ans-du-Prince.jpg
END:VEVENT
BEGIN:VEVENT
DTSTART;TZID=Europe/Paris:20230719T000000
DTEND;TZID=Europe/Paris:20231231T235959
DTSTAMP:20260417T001710
CREATED:20221221T101800Z
LAST-MODIFIED:20230810T152246Z
UID:10000028-1689724800-1704067199@centenairerainier3.mc
SUMMARY:Exposition “Le Prince bâtisseur. Une ambition pour Monaco”
DESCRIPTION:A travers des maquettes\, des plans\, des photographies\, des objets ainsi que des documents jamais présentés\, l’exposition vise à montrer comment le Prince Rainier III a transformé durablement la physionomie de son Etat. \nPour construire une prospérité économique durable\, le Prince Rainier III se dote d’outils politiques\, juridiques et constitutionnels qui lui permettent de bâtir un État moderne : nouvelle Constitution\, redéfinition des relations avec la France\, ouverture internationale et renforcement de l’attractivité touristique par la création d’événements qui jalonnent encore aujourd’hui l’année en Principauté. \nCette exposition montre comment le Prince Rainier III\, s’inscrivait tout à la fois dans la continuité historique et dans l’innovation\, se montrant même résolument révolutionnaire dans son approche urbanistique\, animé par une seule ambition : garantir la prospérité et le bien-être des Monégasques auxquels il était uni par un lien d’affection autant qu’un serment constitutionnel \nCommissariat : Stéphane Bern et Christian Curau • Scénographie : Coraline Delorme et Thomas Guillaume \nInformations pratiques : Ouverture du mardi au dimanche de 13h à 19h • Entrée gratuite \n \n\n\n© Archives du Palais / Le Prince Rainier III sur le terre-plein de Fontvieille\, Mars 1966
URL:https://centenairerainier3.mc/event/exposition-le-prince-batisseur-et-evolution-de-la-principaute-de-1923-a-2023/
LOCATION:Salle d’Exposition du Quai Antoine Ier\, Monaco
CATEGORIES:Exposition
ATTACH;FMTTYPE=image/png:https://centenairerainier3.mc/wp-content/uploads/2022/12/Visuel_Site-Commemorations-2048x1365px.png
END:VEVENT
BEGIN:VEVENT
DTSTART;TZID=Europe/Paris:20230625T180000
DTEND;TZID=Europe/Paris:20230625T210000
DTSTAMP:20260417T001710
CREATED:20230424T075147Z
LAST-MODIFIED:20230731T122642Z
UID:10000046-1687716000-1687726800@centenairerainier3.mc
SUMMARY:Concert en hommage au Prince Rainier III
DESCRIPTION:Maîtrise Notre-Dame de Paris © Léonard de Serres\n\n\nDimanche 25 juin 2023\, à 18h à la Cathédrale de Monaco\, un concert est organisé dans le cadre des Commémorations du Centenaire de la naissance du Prince Rainier III \nLes œuvres présentées ont été commandées et composées à l’occasion de grands moments de la vie du Prince Rainier III : œuvres de Louis Perruchot\, Emile Bourdon\, Henri Barraud\, Léon Jehin données à la Cathédrale à l’occasion du baptême\, de l’Avènement et du mariage du prince. \nLe Requiem de Maurice Duruflé\, sera donné in memoriam \nAvec la participation de :Maîtrise Notre-Dame de ParisHenri Chalet\, direction \nYves Castagnet\, organiste titulaire de l’orgue de chœur de Notre-Dame de ParisOlivier Vernet\, organiste titulaire du grand orgue de la Cathédrale de MonacoJean-Cyrille Gandillet\, organiste titulaire de l’orgue de chœur de la Cathédrale de Monaco \nZhang Zhang\, violonAlexandre Fougeroux\, violoncelleSolistes de l’Orchestre Philharmonique de Monte-Carlo \n \n\n\n\n\n\n\n\n\nMaîtrise Notre-Dame de Paris ©Franck Rémy\n\n\n\nHenri Chalet ©Léonard de Serres\n\n\n\nYves Castagnet ©Léonard de Serres\n\n\n\nOlivier Vernet ©DR\n\n\n\n Jean-Cyrille Gandillet ©DR
URL:https://centenairerainier3.mc/event/concert-en-hommage-au-prince-rainier3/
LOCATION:Cathédrale de Monaco\, Avenue Saint Martin\, Monaco\, 98000\, Monaco
CATEGORIES:Spectacle
ATTACH;FMTTYPE=image/jpeg:https://centenairerainier3.mc/wp-content/uploads/2023/04/Choeur-Maitrise-©Leonard-de-Serres-scaled.jpg
END:VEVENT
BEGIN:VEVENT
DTSTART;TZID=Europe/Paris:20230531T141500
DTEND;TZID=Europe/Paris:20230531T235900
DTSTAMP:20260417T001710
CREATED:20230125T112805Z
LAST-MODIFIED:20230731T120737Z
UID:10000039-1685542500-1685577540@centenairerainier3.mc
SUMMARY:Chemin des sculptures Rainier III
DESCRIPTION:La longue tradition de mécénat artistique menée par les princes de Monaco se perpétue sous le règne du Prince Rainier III. Sous son impulsion\, de 1987 à 2004\, la Principauté de Monaco accueille Le Festival International de sculpture de Monte-Carlo. Au cours de cette période\, à la demande du Prince\, le Gouvernement a acquis certaines des œuvres exposées lors de cette manifestation et les a installées\, de manière pérenne\, dans l’espace public de la Principauté. Des commandes mais également des dons sont venus enrichir cette collection au fil des ans. A ce jour\, elle constitue un parcours patrimonial cheminant à travers les différents quartiers de la ville\, riche de plus de deux cents œuvres et fontaines d’artistes éclectiques. \nUn parcours patrimonial\, riche de plusieurs centaines d’oeuvres et de fontaines d’artistes\, chemine à travers les différents quartiers de la ville. Plus de 150 sculptures sont ainsi à découvrir\, installées dans les rues et les jardins de la Principauté. \nDes cartels installés près de chaque sculpture vous permettent\, en flashant le QR code présent\, d’accéder à des détails sur l’histoire spécifique de l’oeuvre\, de son auteur et de son rapport à la Principauté. \nUne carte interactive positionne ces sculptures et\, sous réserve d’avoir autorisé la géolocalisation sur votre téléphone\, vous guide jusqu’à la sculpture suivante. \nN’hésitez pas à télécharger le dépliant via le bouton ci-dessous pour avoir plus d’informations. 
URL:https://centenairerainier3.mc/event/chemin-des-sculptures-rainier3/
LOCATION:Monaco
CATEGORIES:Art
ATTACH;FMTTYPE=image/png:https://centenairerainier3.mc/wp-content/uploads/2023/01/thumbnail_Image1.png
END:VEVENT
END:VCALENDAR